BEGIN:VCALENDAR
VERSION:2.0
PRODID:-//TechToken - ECPv6.15.20//NONSGML v1.0//EN
CALSCALE:GREGORIAN
METHOD:PUBLISH
X-ORIGINAL-URL:https://techtoken.in
X-WR-CALDESC:Events for TechToken
REFRESH-INTERVAL;VALUE=DURATION:PT1H
X-Robots-Tag:noindex
X-PUBLISHED-TTL:PT1H
BEGIN:VTIMEZONE
TZID:Asia/Kolkata
BEGIN:STANDARD
TZOFFSETFROM:+0530
TZOFFSETTO:+0530
TZNAME:IST
DTSTART:20230101T000000
END:STANDARD
END:VTIMEZONE
BEGIN:VEVENT
DTSTART;VALUE=DATE:20250304
DTEND;VALUE=DATE:20250307
DTSTAMP:20260421T153534
CREATED:20250219T075624Z
LAST-MODIFIED:20250219T075624Z
UID:8281-1741046400-1741305599@techtoken.in
SUMMARY:Education 2.0 Conference 2025
DESCRIPTION:The Education 2.0 Conference 2025 is a global platform for educators\, policymakers\, EdTech innovators\, and academic leaders to explore the latest trends\, technologies\, and strategies transforming education. From STEM education and inclusive teaching practices to sustainability and the gig economy\, this three-day event fosters collaboration\, learning\, and innovation. \n\nWhy Attend? 🌟\n\nEngage with 100+ Industry Leaders: Gain insights from top educators\, EdTech pioneers\, and policymakers.\nExplore Innovations in STEM & EdTech: Discover technology-driven solutions for modern learning.\nNetworking & Recognition: Connect with C-suite executives\, education entrepreneurs\, and academic visionaries.\nActionable Strategies for Curriculum & Policy: Learn about inclusive education\, sustainability\, and career readiness.\n\n\nWho Should Attend? 🎯\n\nEducators & School Administrators reimagining classroom learning.\nEdTech Startups & Investors driving digital transformation.\nPolicymakers & Academic Leaders shaping education for future generations.\nCorporate Learning & Development Experts enhancing workforce skills & training.\n\n\nWhat’s In Store? 🎉\n\n🎤 Keynotes & Panel Discussions: Covering AI in education\, women in STEM\, sustainability\, and more.\n🚀 Startup & Business Showcases: Meet innovators transforming EdTech.\n🔥 Workshops & Leadership Insights: Learn about emotional intelligence\, leadership\, and career preparedness.\n🤝 Exclusive Networking & Recognition Events: Celebrate educational excellence.\n\n\nSecure Your Spot 🔐\n🎟️ Get Your Pass Today!✅ Standard Pass – Full access to sessions & networking.✅ VIP Pass – Exclusive lounge access & recognition sessions. \n👉 Buy Your Pass and be part of the education revolution! \n🌟 #Education2.0Conference2025 | Where Learning Meets Innovation! 🚀
URL:https://techtoken.in/event/education-2-0-conference-2025/
LOCATION:Egyptian 1-2-3\, Luxor Hotel & Casino\, Las Vegas\, USA\, Egyptian 1-2-3\, Luxor Hotel & Casino\, Las Vegas\, USA\, Las Vegas\, USA\, United States
CATEGORIES:Education
ATTACH;FMTTYPE=image/png:https://techtoken.in/wp-content/uploads/Screenshot-2025-02-19-132002.png
END:VEVENT
BEGIN:VEVENT
DTSTART;VALUE=DATE:20241203
DTEND;VALUE=DATE:20241206
DTSTAMP:20260421T153534
CREATED:20241129T042210Z
LAST-MODIFIED:20241129T042210Z
UID:6920-1733184000-1733443199@techtoken.in
SUMMARY:Future-Ready Connections: The Education Leaders’ Mixer
DESCRIPTION:Join us for an exclusive evening designed to connect visionaries redefining the education landscape! From AI pioneers to EdTech investors\, this mixer is the ultimate platform to exchange ideas\, build partnerships\, and toast to the future of learning. \n\nWho Is This For? 🎯\nThis event is perfect for: \n\nEducation entrepreneurs\nEdTech innovators\nThought leaders in adaptive learning\nInvestors shaping the next big wave in education\n\n\nWhy You Should Attend 🌟\n\nElite Networking: Engage with top-tier founders\, CEOs\, and changemakers in education.\nInspiring Conversations: Get insider insights on education innovation trends.\nPremium Experience: Enjoy curated gourmet bites and a luxe ambiance.\n\n\nWho’ll Be There? 👥\nA handpicked circle of: \n\nInfluential educators and technologists\nEdTech investors and policymakers\nSpeakers and leaders from the Education 2.0 Conference\n\n\nWhat’s in Store? 🎉\n\nFireside chats with education disruptors 🔥\nExclusive sneak peeks at emerging EdTech solutions 📱\nUnforgettable connections over cocktails 🍸\n\n\nSecure Your Spot Now! 🔐\nLimited spaces available. Approval required for entry. \n👉 Request Your Invite Now \nBe part of a gathering where the brightest minds in education unite to inspire the future! 🌍✨Al Ras 1\, InterContinental\, Dubai Festival City\, Dubai\, UAE
URL:https://techtoken.in/event/future-ready-connections-the-education-leaders-mixer/
LOCATION:Al Ras 1\, InterContinental\, Dubai Festival City\, Dubai\, UAE\, Al Ras 1\, InterContinental\, Dubai Festival City\, Dubai\, UAE\, Dubai\, United Arab Emirates
CATEGORIES:Education
ATTACH;FMTTYPE=image/png:https://techtoken.in/wp-content/uploads/2024/11/Screenshot-2024-11-29-094959.png
END:VEVENT
END:VCALENDAR