BEGIN:VCALENDAR
VERSION:2.0
PRODID:-//TechToken - ECPv6.15.20//NONSGML v1.0//EN
CALSCALE:GREGORIAN
METHOD:PUBLISH
X-ORIGINAL-URL:https://techtoken.in
X-WR-CALDESC:Events for TechToken
REFRESH-INTERVAL;VALUE=DURATION:PT1H
X-Robots-Tag:noindex
X-PUBLISHED-TTL:PT1H
BEGIN:VTIMEZONE
TZID:Asia/Kolkata
BEGIN:STANDARD
TZOFFSETFROM:+0530
TZOFFSETTO:+0530
TZNAME:IST
DTSTART:20230101T000000
END:STANDARD
END:VTIMEZONE
BEGIN:VEVENT
DTSTART;VALUE=DATE:20241203
DTEND;VALUE=DATE:20241206
DTSTAMP:20260422T044941
CREATED:20241129T042210Z
LAST-MODIFIED:20241129T042210Z
UID:6920-1733184000-1733443199@techtoken.in
SUMMARY:Future-Ready Connections: The Education Leaders’ Mixer
DESCRIPTION:Join us for an exclusive evening designed to connect visionaries redefining the education landscape! From AI pioneers to EdTech investors\, this mixer is the ultimate platform to exchange ideas\, build partnerships\, and toast to the future of learning. \n\nWho Is This For? 🎯\nThis event is perfect for: \n\nEducation entrepreneurs\nEdTech innovators\nThought leaders in adaptive learning\nInvestors shaping the next big wave in education\n\n\nWhy You Should Attend 🌟\n\nElite Networking: Engage with top-tier founders\, CEOs\, and changemakers in education.\nInspiring Conversations: Get insider insights on education innovation trends.\nPremium Experience: Enjoy curated gourmet bites and a luxe ambiance.\n\n\nWho’ll Be There? 👥\nA handpicked circle of: \n\nInfluential educators and technologists\nEdTech investors and policymakers\nSpeakers and leaders from the Education 2.0 Conference\n\n\nWhat’s in Store? 🎉\n\nFireside chats with education disruptors 🔥\nExclusive sneak peeks at emerging EdTech solutions 📱\nUnforgettable connections over cocktails 🍸\n\n\nSecure Your Spot Now! 🔐\nLimited spaces available. Approval required for entry. \n👉 Request Your Invite Now \nBe part of a gathering where the brightest minds in education unite to inspire the future! 🌍✨Al Ras 1\, InterContinental\, Dubai Festival City\, Dubai\, UAE
URL:https://techtoken.in/event/future-ready-connections-the-education-leaders-mixer/
LOCATION:Al Ras 1\, InterContinental\, Dubai Festival City\, Dubai\, UAE\, Al Ras 1\, InterContinental\, Dubai Festival City\, Dubai\, UAE\, Dubai\, United Arab Emirates
CATEGORIES:Education
ATTACH;FMTTYPE=image/png:https://techtoken.in/wp-content/uploads/2024/11/Screenshot-2024-11-29-094959.png
END:VEVENT
BEGIN:VEVENT
DTSTART;VALUE=DATE:20241203
DTEND;VALUE=DATE:20241206
DTSTAMP:20260422T044941
CREATED:20241128T031435Z
LAST-MODIFIED:20241128T031716Z
UID:6873-1733184000-1733443199@techtoken.in
SUMMARY:VIP Wellness Night
DESCRIPTION:Dive into an intimate setting with global healthcare leaders\, top-tier investors\, and pioneering founders. This is your chance to unlock unparalleled opportunities\, exchange visionary ideas\, and enjoy the finest of Dubai. \n\nWho is This For? 🎯\n\nForward-thinking CEOs\, investors\, and founders reshaping the healthcare landscape.\nAttendees looking for high-value connections and insights beyond the main conference.\n\n\nWhy You Should Attend 🌟\n\nNetwork Exclusively: Rub shoulders with healthcare game-changers in an elite setting.\nPremium Experience: Indulge in gourmet cuisine and a curated selection of beverages.\nGet Inspired: Engage in thought-provoking discussions to propel your vision forward.\n\n\nWho’ll Be There 👥\nA handpicked audience of influential decision-makers\, award-winning innovators\, and venture capitalists eager to collaborate. \n\nWhat’s in Store? 🎉\n\nA fireside chat with an industry icon.\nCurated networking sessions designed to spark collaborations.\nExclusive giveaways to commemorate the evening.\n\n\nSecure Your Spot 🔐\nSpaces are extremely limited\, and entry is by approval only. \n👉 Apply Now to reserve your place at this prestigious gathering! \nLet’s create breakthroughs together in Dubai! 🌟
URL:https://techtoken.in/event/vip-wellness-night/
LOCATION:InterContinental\, Dubai Festival City\, Dubai\, UAE\, InterContinental\, Dubai Festival City\, Dubai\, UAE\, Dubai\, United Arab Emirates
CATEGORIES:Exclusive Networking
ATTACH;FMTTYPE=image/png:https://techtoken.in/wp-content/uploads/2024/11/Screenshot-2024-11-28-083934.png
END:VEVENT
BEGIN:VEVENT
DTSTART;VALUE=DATE:20241203
DTEND;VALUE=DATE:20241204
DTSTAMP:20260422T044941
CREATED:20241128T032929Z
LAST-MODIFIED:20241128T032929Z
UID:6878-1733184000-1733270399@techtoken.in
SUMMARY:Tech Visionaries Night
DESCRIPTION:Join a select group of trailblazing tech leaders\, visionary investors\, and game-changing founders for a night of networking\, fine dining\, and inspiring conversations that will spark your imagination and energize your ambitions. \n\nWho is This For? 🎯\n\nTech pioneers\, startup leaders\, and venture capitalists driving tomorrow’s breakthroughs.\nThose seeking meaningful connections and forward-thinking collaborations in tech.\n\n\nWhy You Should Attend 🌟\n\nNetwork with Elites: Connect with industry titans in an intimate\, high-energy setting.\nExclusive Access: Dive into behind-the-scenes insights shaping the future of tech.\nPremium Experience: Enjoy world-class cuisine and a stunning ambiance designed to inspire.\n\n\nWho’ll Be There 👥\n\nVisionary CEOs\, leading investors\, and brilliant innovators shaping global tech trends.\nAn audience carefully curated to maximize your networking ROI.\n\n\nWhat’s in Store? 🎉\n\nA spotlight talk by a top innovator disrupting the tech landscape.\nHigh-impact networking to forge partnerships that matter.\nExclusive giveaways and VIP perks to commemorate the evening.\n\n\nSecure Your Spot 🔐\nAttendance is limited and approval-based to ensure a top-tier networking experience. \n👉 Apply Here to be part of this exclusive tech-forward gathering! \nLet’s create the future\, together in Dubai! 🌟
URL:https://techtoken.in/event/tech-visionaries-night/
LOCATION:InterContinental\, Dubai Festival City\, Dubai\, UAE\, InterContinental\, Dubai Festival City\, Dubai\, UAE\, Dubai\, United Arab Emirates
CATEGORIES:Technology
ATTACH;FMTTYPE=image/png:https://techtoken.in/wp-content/uploads/2024/11/Screenshot-2024-11-28-085649.png
END:VEVENT
BEGIN:VEVENT
DTSTART;VALUE=DATE:20241203
DTEND;VALUE=DATE:20241204
DTSTAMP:20260422T044941
CREATED:20241128T022919Z
LAST-MODIFIED:20241128T022919Z
UID:6862-1733184000-1733270399@techtoken.in
SUMMARY:TTMeetup: Master TikTok for Explosive Growth
DESCRIPTION:Step into the ultimate TikTok-powered affiliate experience 🌐✨. Connect with global pioneers\, soak in expert insights\, and unlock innovative strategies to supercharge your affiliate game. Whether you’re a newbie or a seasoned pro\, this is the platform to scale\, succeed\, and shine. \n\nWho is This For? 🎯\n\nFounders and CEOs seeking fresh revenue streams.\nMedia buyers ready to dominate the TikTok ad space.\nContent creators and marketers eager to scale brands globally.\n\n\nWhy You Should Attend 🌟\n\nNext-Level Strategies: Learn the secrets to TikTok organic and paid success.\nElite Networking: Meet industry leaders\, investors\, and top-tier affiliates.\nHands-On Workshops: Actionable takeaways from interactive sessions.\n\n\nWho’ll Be There? 👥\nGlobal experts like award-winning authors\, affiliate trailblazers\, and industry pioneers\, including: \n\nJimmy Naraine: Travelpreneur insights.\nSami Nahmiyaz: Native ad & social traffic mastery.\nCandice Xu: Smarter ad tracking solutions.\n…and more!\n\n\nWhat’s in Store? 🎉\n\n🌟 Keynotes: Visionary talks to inspire your growth.\n🎭 Clicks & Comedy: Affiliate marketing with a humorous twist.\n🍴 Networking Over Gourmet Treats: Business\, bites\, and brilliance.\n🎁 Exclusive Insights: Stay ahead with 2024’s hottest trends.\n\n\nSecure Your Spot Now! 🔐\nSeats are limited\, and entry is by approval only. Don’t miss the chance to transform your affiliate journey with TTMeetup’s Bangkok edition! \n👉 Get Your Free Ticket Now! \n✨ Let’s dominate TikTok and affiliate marketing together! ✨
URL:https://techtoken.in/event/ttmeetup-master-tiktok-for-explosive-growth/
LOCATION:InterContinental Bangkok\, Thailand\, InterContinental Bangkok\, Thailand\, Bangkok\, Thailand
CATEGORIES:Digital Marketing
ATTACH;FMTTYPE=image/png:https://techtoken.in/wp-content/uploads/2024/11/7_affiliateworldconferences_b5ba86ea19.png
END:VEVENT
BEGIN:VEVENT
DTSTART;VALUE=DATE:20241202
DTEND;VALUE=DATE:20241209
DTSTAMP:20260422T044941
CREATED:20241124T070847Z
LAST-MODIFIED:20241124T071803Z
UID:6685-1733097600-1733702399@techtoken.in
SUMMARY:India Blockchain Week 2024 (IBW2024): Powering India's Web3 Evolution!
DESCRIPTION:Join the IBW2024 Conference\, the two-day crown jewel of India Blockchain Week! Dive deep into blockchain and web3\, with world-class speakers\, expert panels\, and an exclusive network of leaders shaping the future. \n\nWho is This For? 🎯\n\nFounders & CEOs driving blockchain transformation\nInvestors eyeing the next big opportunity\nDevelopers & Innovators creating decentralized futures\nWeb3 Enthusiasts eager to connect and learn\n\n\nWhy You Should Attend 🌟\n\n🔥 Game-Changing Insights: Learn from industry pioneers.\n💡 Expert Panels & Dialogues: Explore the latest in blockchain.\n🌐 Unmatched Networking: Build connections with global leaders.\n🍷 Premium Perks: From gourmet dining to VIP experiences.\n\n\nWhat’s in Store? 🎉\n\nInspiring Keynotes from blockchain visionaries.\nCutting-Edge Discussions on India’s web3 revolution.\nExclusive Afterparty to unwind and network.\nVIP Lounge Access for Premium Pass holders.\n\n\nBe Part of India’s Decentralized Movement!\n🎟️ General Pass: INR 4\,218 (Limited Early Bird Offer: INR 49!)\n🎟️ Premium Pass: INR 34\,320 with VIP Dinner and Lounge perks.\n🎟️ Developer & Student Discounts Available! \nSecure your spot today—limited seats\, approval-only entry! \n👉 Register Now ✨
URL:https://techtoken.in/event/%f0%9f%9a%80-india-blockchain-week-2024-ibw2024-powering-indias-web3-evolution/
LOCATION:Sheraton Grand\, Whitefield\, Bengaluru\, Sheraton Grand\, Whitefield\, Bengaluru\, Bengaluru\, karnataka\, India
CATEGORIES:Crypto
ATTACH;FMTTYPE=image/png:https://techtoken.in/wp-content/uploads/2024/11/banner_less-a4d6df0dffdd156d44ac79405d9301c87f3ef25630fc612373a97df2c3d654d2.png
END:VEVENT
BEGIN:VEVENT
DTSTART;VALUE=DATE:20241202
DTEND;VALUE=DATE:20241204
DTSTAMP:20260422T044941
CREATED:20241130T055639Z
LAST-MODIFIED:20241130T055639Z
UID:6969-1733097600-1733270399@techtoken.in
SUMMARY:FTT Embedded Finance & Super-Apps 2025
DESCRIPTION:Welcome to the premier event shaping the future of Embedded Finance and Super-Apps! 🌐✨ This is where global innovators\, tech disruptors\, and industry leaders come together to redefine how financial services integrate seamlessly into daily life. With unmatched content\, world-class networking\, and cutting-edge insights\, this is the must-attend event for professionals across fintech\, retail\, insurance\, and beyond. \n\nWho is This For? 🎯\n\nTech Innovators and Fintech Leaders blazing new trails.\nRetailers\, Insurers\, and Manufacturers embedding financial services into their offerings.\nVisionary Financial Institutions\, VCs\, and Policymakers.\n\n\nWhy You Should Attend 🌟\n\nElite Networking: Connect with 400+ attendees\, including 60% embedders.\nThought Leadership: Hear from 130+ Rockstar Speakers driving the future of finance. 🎤\nExclusive Insights: Explore transformative topics like Super-Apps\, Embedded Insurance\, and Open Finance.\nInteractive Experiences: Live demos\, matchmaking services\, and networking receptions. 🍸\n\n\nWho’ll Be There? 👥\n\nInfluential speakers like Chris Spiek (Autobooks)\, Luke Voiles (Pipe)\, and Theresa Moore Esmali (Goalsetter).\nKey players from PayPal\, ADP\, Zillow\, and more.\nIndustry trailblazers from banks\, telcos\, e-commerce\, and beyond.\n\n\nWhat’s in Store? 🎉\n\nDisruptive Panels & Talks: Unlock the future of finance with insights on embedded payments\, insurance\, and wealth management.\nTechnology Spotlights: Get hands-on with PaaS\, BaaS\, APIs\, and cutting-edge Super-App frameworks.\nDynamic Networking: Enjoy curated matchmaking and intimate discussions with the brightest minds in fintech.\nUnique Venue: Hosted at the stunning Hotel Kabuki in San Francisco’s Japantown\, offering a boutique yet dynamic experience.\n\n\nSecure Your Spot Now! 🔐\nSeats are limited for this industry-shaping experience. Don’t miss your chance to be part of the conversation shaping financial innovation and Super-App ecosystems. \n👉 Register Your Interest Here! 🚀 \nThe future of finance starts here! 🌟
URL:https://techtoken.in/event/ftt-embedded-finance-super-apps-2025/
LOCATION:San Francisco\, CA\, San Francisco\, CA\, San Francisco\, United States
CATEGORIES:Technology
ATTACH;FMTTYPE=image/png:https://techtoken.in/wp-content/uploads/2024/11/Screenshot-2024-11-30-112400.png
END:VEVENT
BEGIN:VEVENT
DTSTART;VALUE=DATE:20241201
DTEND;VALUE=DATE:20241204
DTSTAMP:20260422T044941
CREATED:20241124T080737Z
LAST-MODIFIED:20241124T080737Z
UID:6700-1733011200-1733270399@techtoken.in
SUMMARY:UNFOLD'24: Where Web3 Dreams Take Flight!
DESCRIPTION:Step into the most anticipated Web3 event of the year! UNFOLD’24 is where visionaries\, disruptors\, and pioneers in the blockchain universe gather to shape the future. Whether you’re a developer\, founder\, investor\, or enthusiast\, this is your ultimate chance to connect\, learn\, and lead in the Web3 ecosystem. \n\nWho is This For? 🎯\n\nFounders\, CEOs\, and Investors\nWeb3 Developers and Blockchain Enthusiasts\nCreators\, Innovators\, and Visionaries\n\n\nWhy You Should Attend 🌟\n\n💡 Dive into cutting-edge Web3 insights from industry titans.\n🤝 Forge high-impact connections with global leaders.\n🛠️ Compete in a multi-chain\, multi-protocol hackathon to win over $100K in prizes!\n🎉 Enjoy a premium venue\, gourmet dining\, and exclusive experiences.\n\n\nWho’ll Be There? 👥\n\nTop Web3 founders\, innovators\, and VCs\nIndustry icons like Sandeep Nailwal (Polygon) and Avery Ching (Aptos)\nLeading voices from CoinDCX\, Mountain Protocol\, Multicoin Capital\, and more\n\n\nWhat’s in Store? 🎉\n\n🔥 30+ sessions led by Web3 experts\n🛠️ Hackathon featuring multi-chain & multi-protocol innovations\n🎤 Keynotes from game-changing speakers\n🍴 Networking over curated dining experiences\n🎁 Exclusive giveaways and bounties\n\n\nSecure Your Spot 🔐\nSeats are limited and access is approval-only. Don’t miss your chance to lead the charge into the future of Web3! \n👉 REGISTER NOW \n🌟 See you at UNFOLD’24—where the Web3 world meets and evolves! 🌐✨
URL:https://techtoken.in/event/unfold24-where-web3-dreams-take-flight/
LOCATION:Marriott\, Bengaluru\, India\, Marriott\, Bengaluru\, India\, Bengaluru\, karnataka
CATEGORIES:Crypto
ATTACH;FMTTYPE=image/jpeg:https://techtoken.in/wp-content/uploads/2024/11/Unfold_metadata_image.jpg
END:VEVENT
BEGIN:VEVENT
DTSTART;VALUE=DATE:20241128
DTEND;VALUE=DATE:20241130
DTSTAMP:20260422T044941
CREATED:20241124T075241Z
LAST-MODIFIED:20241124T075553Z
UID:6695-1732752000-1732924799@techtoken.in
SUMMARY:SPiCE International 2024: Elevating Gaming Excellence
DESCRIPTION:Prepare to connect\, innovate\, and lead! SPiCE International 2024 is your gateway to the heart of the global gaming industry. Over two impactful days\, industry trailblazers\, decision-makers\, and visionaries from across the globe will converge in Taipei to discuss the future of gaming. Network\, learn\, and grow in a dynamic environment crafted to drive meaningful connections and groundbreaking insights. \n\nWho is This For? 🎯\n\nGaming Operators\nIndustry Suppliers\nAffiliates\nPayment Experts\nRegulators\n\n\nWhy You Should Attend 🌟\n\nHigh-Impact Networking: Connect with global leaders and decision-makers.\nUnrivaled Insights: Access cutting-edge trends and expert strategies.\nExclusive Access: All tickets guarantee participation in premium events.\n\n\nWho’ll Be There 👥\n\nCEOs and Founders from global gaming companies\nVisionary speakers including AI innovators and legal pioneers\nDelegates from over 4 continents\n\n\nWhat’s in Store? 🎉\n\nInspiring Talks: Gain wisdom from industry giants like Andreas Ioannou (Everneed AI) and Calvin Shueh (Mahjong Masters).\nExpert Panels: Navigate regulation challenges and marketing strategies.\nUnparalleled Networking: Build lasting relationships at our evening networking drinks.\nPremium Experiences: Enjoy a curated agenda\, gourmet dining\, and a luxurious venue.\n\n\nSecure Your Spot 🔐\nSpots are limited for this exclusive gathering of gaming elites! Apply now to join the industry’s most influential voices. Approval-only entry ensures a focused and professional environment. \n🚀 Register today and position yourself at the forefront of gaming innovation!
URL:https://techtoken.in/event/spice-international-2024-elevating-gaming-excellence/
LOCATION:HILTON TAIPEI SINBAN\, TAIWAN\, HILTON TAIPEI SINBAN\, TAIWAN\, New Taipei
CATEGORIES:Gaming,Technology
ATTACH;FMTTYPE=image/webp:https://techtoken.in/wp-content/uploads/2024/11/1730367444989cjyocn3zmf.webp
END:VEVENT
BEGIN:VEVENT
DTSTART;VALUE=DATE:20240127
DTEND;VALUE=DATE:20240130
DTSTAMP:20260422T044941
CREATED:20241207T023942Z
LAST-MODIFIED:20241207T023942Z
UID:7201-1706313600-1706572799@techtoken.in
SUMMARY:Capital Connect: The 2025 Project Finance Insider
DESCRIPTION:Gear up for Capital Connect\, the ultimate power gathering for top-tier CEOs\, founders\, and investors shaping the future of energy infrastructure! 🚀 Join us for insider strategies\, unparalleled networking\, and premium experiences tailored to the industry’s elite. \n\nWho Is This For? 🎯\n\nProject developers breaking into 2025’s energy finance trends.\nSenior executives eyeing new capital strategies.\nVisionary investors looking to secure the next big deal.\n\nWhy You Should Attend 🌟\n\nDiscover exclusive capital sources and emerging technologies.\nDecode the post-2024 election landscape with expert insights.\nBuild high-value connections with decision-makers and innovators.\n\nWho’ll Be There 👥\n\nLeading equity & debt investors.\nPioneers in renewable energy\, hydrogen\, and carbon capture.\nInfluencers shaping the energy industry’s financial future.\n\nWhat’s in Store? 🎉\n\nDynamic panels on financing solar\, wind\, storage\, and more.\nInsight-packed sessions on risk mitigation and capital access.\nPremium networking opportunities to lock in transformative deals.\n\n\nSecure Your Spot 🔐\nSeats are limited\, and approval is required. Don’t miss this unparalleled opportunity to redefine your project finance game. \n👉 Apply Now & join the leaders defining energy finance in 2025! 🌟
URL:https://techtoken.in/event/capital-connect-the-2025-project-finance-insider/
LOCATION:New Orleans\, LA\, New Orleans\, LA\, New Orleans\, United States
ATTACH;FMTTYPE=image/png:https://techtoken.in/wp-content/uploads/2024/12/Screenshot-2024-12-06-204643-1.png
END:VEVENT
END:VCALENDAR